BEGIN:VCALENDAR
VERSION:2.0
PRODID:-//The Bridge Church - ECPv6.15.20//NONSGML v1.0//EN
CALSCALE:GREGORIAN
METHOD:PUBLISH
X-WR-CALNAME:The Bridge Church
X-ORIGINAL-URL:https://rccgthebridge.org
X-WR-CALDESC:Events for The Bridge Church
REFRESH-INTERVAL;VALUE=DURATION:PT1H
X-Robots-Tag:noindex
X-PUBLISHED-TTL:PT1H
BEGIN:VTIMEZONE
TZID:UTC
BEGIN:STANDARD
TZOFFSETFROM:+0000
TZOFFSETTO:+0000
TZNAME:UTC
DTSTART:20220101T000000
END:STANDARD
END:VTIMEZONE
BEGIN:VTIMEZONE
TZID:America/New_York
BEGIN:DAYLIGHT
TZOFFSETFROM:-0500
TZOFFSETTO:-0400
TZNAME:EDT
DTSTART:20220313T070000
END:DAYLIGHT
BEGIN:STANDARD
TZOFFSETFROM:-0400
TZOFFSETTO:-0500
TZNAME:EST
DTSTART:20221106T060000
END:STANDARD
BEGIN:DAYLIGHT
TZOFFSETFROM:-0500
TZOFFSETTO:-0400
TZNAME:EDT
DTSTART:20230312T070000
END:DAYLIGHT
BEGIN:STANDARD
TZOFFSETFROM:-0400
TZOFFSETTO:-0500
TZNAME:EST
DTSTART:20231105T060000
END:STANDARD
BEGIN:DAYLIGHT
TZOFFSETFROM:-0500
TZOFFSETTO:-0400
TZNAME:EDT
DTSTART:20240310T070000
END:DAYLIGHT
BEGIN:STANDARD
TZOFFSETFROM:-0400
TZOFFSETTO:-0500
TZNAME:EST
DTSTART:20241103T060000
END:STANDARD
END:VTIMEZONE
BEGIN:VEVENT
DTSTART;TZID=UTC:20231103T230000
DTEND;TZID=UTC:20231104T230000
DTSTAMP:20260423T171956
CREATED:20231010T071624Z
LAST-MODIFIED:20231010T071749Z
UID:25447-1699052400-1699138800@rccgthebridge.org
SUMMARY:One Altar-Monthly Prayer Meeting
DESCRIPTION:Join us at our monthly prayer vigil. It holds every first Friday of the month from 11pm to 12:30am
URL:https://rccgthebridge.org/event/one-altar-monthly-prayer-meeting/
CATEGORIES:Services
ATTACH;FMTTYPE=image/jpeg:https://rccgthebridge.org/wp-content/uploads/2023/10/One-Altar.jpeg
END:VEVENT
BEGIN:VEVENT
DTSTART;TZID=UTC:20231016T200000
DTEND;TZID=UTC:20231016T210000
DTSTAMP:20260423T171956
CREATED:20231010T071951Z
LAST-MODIFIED:20231010T072822Z
UID:25450-1697486400-1697490000@rccgthebridge.org
SUMMARY:Weekly Prayer Meeting
DESCRIPTION:Join us to pray every Monday evening from 8pm.
URL:https://rccgthebridge.org/event/weekly-prayer-meeting/
CATEGORIES:Services
ATTACH;FMTTYPE=image/jpeg:https://rccgthebridge.org/wp-content/uploads/2023/07/WhatsApp-Image-2023-07-18-at-9.52.42-AM.jpeg
END:VEVENT
BEGIN:VEVENT
DTSTART;TZID=America/New_York:20231015T093000
DTEND;TZID=America/New_York:20231015T110000
DTSTAMP:20260423T171956
CREATED:20200428T172832Z
LAST-MODIFIED:20231010T074514Z
UID:1200-1697362200-1697367600@rccgthebridge.org
SUMMARY:Sunday Worship Service
DESCRIPTION:Join us every Sunday in our contemporary Worship Service from 9:30 AM.  Join us every Sunday in our contemporary Worship Service from 9:30 AM \n  \n  \n  \n  \n 
URL:https://rccgthebridge.org/event/sundayworship/
CATEGORIES:Services
ATTACH;FMTTYPE=image/jpeg:https://rccgthebridge.org/wp-content/uploads/2023/07/DSC3522.jpg
END:VEVENT
BEGIN:VEVENT
DTSTART;TZID=UTC:20231012T200000
DTEND;TZID=UTC:20231012T210000
DTSTAMP:20260423T171956
CREATED:20200428T172425Z
LAST-MODIFIED:20231010T074559Z
UID:1194-1697140800-1697144400@rccgthebridge.org
SUMMARY:Discover Bible Study
DESCRIPTION:Join us every Thursday at 8 pm in an interactive service\, as we discover the truth in the word of God together. \n  \n  \n  \n  \n 
URL:https://rccgthebridge.org/event/discover/
CATEGORIES:Services
ATTACH;FMTTYPE=image/jpeg:https://rccgthebridge.org/wp-content/uploads/2023/07/WhatsApp-Image-2023-07-12-at-9.22.09-PM.jpeg
END:VEVENT
BEGIN:VEVENT
DTSTART;TZID=UTC:20231010T080000
DTEND;TZID=UTC:20231015T170000
DTSTAMP:20260423T171956
CREATED:20231010T072645Z
LAST-MODIFIED:20231010T072740Z
UID:25452-1696924800-1697389200@rccgthebridge.org
SUMMARY:Passion Week
DESCRIPTION:Passion Week is a quarterly time we set apart to fellowship\, evangelize and worship as a church. The main objective is to show our passion for our lord and savior Jesus Christ! \nMonday\, October 9th 2023: Share Bible verse or salvation story on TBC social media pages. \n  \nTuesday\, October 10th 2023: Share Bible verse or salvation story on TBC social media pages. \n  \nWednesday\, October 11th 2023: Share Bible verse or salvation story on TBC social media pages. \n  \nThursday\, October 12th 2023: \n\nShare Bible verse or salvation story on TBC social media pages.\nBible Study asking attendees to share their salvation story.  We plan to make this an interactive session.\nBridge Online\nThursday\, October 12 · 8:00 – 9:00pm\nTime zone: America/New_York\nGoogle Meet joining info\nVideo call link: https://meet.google.com/sti-jwce-axg\n\n  \n  \nFriday\, October 13th 2023: \n\nShare Bible verse or salvation story on TBC social media pages.\n6 Hour prayer chain (Virtual) from 7:00pm – 1:00am\n\n  \nSaturday\, October 14th 2023: \n\nShare Bible verse or salvation story on TBC social media pages.\nEvangelism ( Broadway Junct\, ).\nWe plan to have a coat\,sweater\,fairly used clothes\, food drive to give out during our evangelism\nHangout Afterwards -Dave and Busters\, Gateway Mall\n\nSunday\, October 15th 2023: \n\nShare Bible verse or salvation story on TBC social media pages.\nWorship Experience Sunday!
URL:https://rccgthebridge.org/event/passion-week/
CATEGORIES:Services
ATTACH;FMTTYPE=image/jpeg:https://rccgthebridge.org/wp-content/uploads/2023/10/passion-week.jpeg
END:VEVENT
END:VCALENDAR