BEGIN:VCALENDAR
VERSION:2.0
METHOD:PUBLISH
CALSCALE:GREGORIAN
PRODID:-//WordPress - MECv7.29.0//EN
X-ORIGINAL-URL:https://rccgthebridge.org/
X-WR-CALNAME:The Bridge Church
X-WR-CALDESC:Faith . Hope . Love
X-WR-TIMEZONE:America/New_York
BEGIN:VTIMEZONE
TZID:America/New_York
X-LIC-LOCATION:America/New_York
BEGIN:DAYLIGHT
TZOFFSETFROM:-0500
TZOFFSETTO:-0400
TZNAME:EDT
DTSTART:20260308T030000
RRULE:FREQ=YEARLY;BYMONTH=03;BYDAY=2SU
END:DAYLIGHT
BEGIN:STANDARD
TZOFFSETFROM:-0400
TZOFFSETTO:-0500
TZNAME:EST
DTSTART:20261101T010000
RRULE:FREQ=YEARLY;BYMONTH=11;BYDAY=1SU
END:STANDARD
END:VTIMEZONE
REFRESH-INTERVAL;VALUE=DURATION:PT1H
X-PUBLISHED-TTL:PT1H
X-MS-OLK-FORCEINSPECTOROPEN:TRUE
BEGIN:VEVENT
CLASS:PUBLIC
UID:MEC-b8727981b7f3d46b51d5b6770632e453@rccgthebridge.org
DTSTART;TZID=America/New_York:20260430T200000
DTEND;TZID=America/New_York:20260430T210000
DTSTAMP:20231017T164942Z
RRULE:FREQ=WEEKLY
CREATED:20231017
LAST-MODIFIED:20231127
PRIORITY:5
SEQUENCE:6
TRANSP:OPAQUE
SUMMARY:Discover Bible Study
DESCRIPTION:Join us every Thursday at 8 pm in an interactive service, as we discover the truth in the word of God together. Join Here\n \n \n \n \n \n
URL:https://rccgthebridge.org/events/discover-bible-study/
CATEGORIES:Services
ATTACH;FMTTYPE=image/jpeg:https://i0.wp.com/rccgthebridge.org/wp-content/uploads/2023/07/WhatsApp-Image-2023-07-12-at-9.22.09-PM.jpeg?fit=1024%2C768&#038;ssl=1
END:VEVENT
BEGIN:VEVENT
CLASS:PUBLIC
UID:MEC-1c7640494d7b763e2f1521e08075cf61@rccgthebridge.org
DTSTART;TZID=America/New_York:20260426T093000
DTEND;TZID=America/New_York:20260426T110000
DTSTAMP:20231017T164942Z
RRULE:FREQ=WEEKLY
CREATED:20231017
LAST-MODIFIED:20231127
PRIORITY:5
SEQUENCE:4
TRANSP:OPAQUE
SUMMARY:Sunday Worship Service
DESCRIPTION:Join us every Sunday in our contemporary Worship Service from 9:30 AM.  Join us every Sunday in our contemporary Worship Service from 9:30 AM\n \n \n \n \n \n
URL:https://rccgthebridge.org/events/sunday-worship-service/
CATEGORIES:Services
ATTACH;FMTTYPE=image/jpeg:https://i0.wp.com/rccgthebridge.org/wp-content/uploads/2023/07/DSC3522.jpg?fit=%2C&#038;ssl=1
END:VEVENT
BEGIN:VEVENT
CLASS:PUBLIC
UID:MEC-ea734165193024428762ecd8cbe338db@rccgthebridge.org
DTSTART;TZID=America/New_York:20260427T200000
DTEND;TZID=America/New_York:20260427T210000
DTSTAMP:20231017T164941Z
RRULE:FREQ=WEEKLY
CREATED:20231017
LAST-MODIFIED:20231127
PRIORITY:5
SEQUENCE:14
TRANSP:OPAQUE
SUMMARY:Weekly Prayer Meeting
DESCRIPTION:Join us to pray every Monday evening from 8pm. Join Here\n
URL:https://rccgthebridge.org/events/weekly-prayer-meeting/
CATEGORIES:Services
ATTACH;FMTTYPE=image/jpeg:https://i0.wp.com/rccgthebridge.org/wp-content/uploads/2023/07/WhatsApp-Image-2023-07-18-at-9.52.42-AM.jpeg?fit=1500%2C1000&#038;ssl=1
END:VEVENT
BEGIN:VEVENT
CLASS:PUBLIC
UID:MEC-ed3fc73e6c5e6b0723e9e7935f50947a@rccgthebridge.org
DTSTART;TZID=America/New_York:20260501T220000
DTEND;TZID=America/New_York:20260501T230000
DTSTAMP:20240116T213212Z
RRULE:FREQ=MONTHLY;WKST=MO;BYDAY=1FR
CREATED:20240116
LAST-MODIFIED:20240116
PRIORITY:5
SEQUENCE:0
TRANSP:OPAQUE
SUMMARY:One Altar (Monthly Worship and Prayer Night)
DESCRIPTION:
URL:https://rccgthebridge.org/events/one-altar-monthly-worship-and-prayer-night/
LOCATION:781 E 93rd St, Brooklyn, NY 11236, USA
END:VEVENT
BEGIN:VEVENT
CLASS:PUBLIC
UID:MEC-7514b3e0aba63c1dc6d14618f0d1f386@rccgthebridge.org
DTSTART;TZID=America/New_York:20260423T200000
DTEND;TZID=America/New_York:20260423T210000
DTSTAMP:20240116T213229Z
RRULE:FREQ=WEEKLY;BYDAY=TH,MO
CREATED:20240116
LAST-MODIFIED:20240116
PRIORITY:5
SEQUENCE:0
TRANSP:OPAQUE
SUMMARY:Bridge Online
DESCRIPTION:-::~:~::~:~:~:~:~:~:~:~:~:~:~:~:~:~:~:~:~:~:~:~:~:~:~:~:~:~:~:~:~:~:~:~:~:~:~:~::~:~::-\nJoin with Google Meet: https://meet.google.com/sti-jwce-axg\nLearn more about Meet at: https://support.google.com/a/users/answer/9282720\nPlease do not edit this section.\n-::~:~::~:~:~:~:~:~:~:~:~:~:~:~:~:~:~:~:~:~:~:~:~:~:~:~:~:~:~:~:~:~:~:~:~:~:~:~::~:~::-\n
URL:https://rccgthebridge.org/events/bridge-online-2/
ORGANIZER;CN=RCCG TBC:MAILTO:mailto:tbcrccg@gmail.com
LOCATION:online
END:VEVENT
END:VCALENDAR
